BEGIN:VCALENDAR
CALSCALE:GREGORIAN
VERSION:2.0
METHOD:PUBLISH
X-WR-CALNAME:Baker Tilly Luxembourg
PRODID:-//Baker Tilly Luxembourg//NONSGML v1.0//EN
BEGIN:VEVENT
UID:203085
DTSTAMP:20260421T084727Z
DTSTART:20260317T073000Z
DTEND:20260317T120000Z
SUMMARY:Actualités RH &amp; Payroll : les clés pour bien démarrer l’année !
DESCRIPTION:L’objectif de ce séminaire est de passer en revue les actualités RH &amp; Payroll\nEvent page: https://www.bakertilly.lu/events/actualités-rh-payroll-les-clés-pour-bien-démarrer-lannée-2
URL:https://www.bakertilly.lu/events/actualités-rh-payroll-les-clés-pour-bien-démarrer-lannée-2
END:VEVENT
END:VCALENDAR